BEGIN:VCALENDAR
VERSION:2.0
PRODID:-//hacksw/handcal//NONSGML v1.0//EN
CALSCALE:GREGORIAN
BEGIN:VEVENT
DTEND:20180929T140000Z
UID:69e387a273317
DTSTAMP:20260418T133114Z
LOCATION:St. Martin in Passeier
DESCRIPTION:3. Bataillonschützenfest
 zur 40 jährigen Wiedergründung
 am 29. September 2018
 in St. Martin - Passeier
15.00 Uhr Eintreffen beim „Jager Hans“
15.15 Uhr Frontabschreitung &amp\; Abmarsch zum Dorfplatz
16.00 Uhr Heilige Messe mit Landeskurat
P. Christoph Walder OT
Im Anschluss
• Heldenehrung
• Begrüßung durch Bataillonskomandant
Florian Krezdorn
• Grußworte der Ehrengäste
• Festrede vom Althauptmann der
SK. Wilten Dietmar Ganahl
• Landeshymne
• Abmarsch zum Festplatz
Festplatz
Fest der Jungen Psairer mit verschiedenen
Musikgruppen aus dem In- und Ausland
mit Einlagen der Schuhplattler
URL;VALUE=URI:https://burggrafenamt-online.eu/event/bataillonsfest-passeier/
SUMMARY:Bataillonsfest Passeier
DTSTART:20180929T130000Z
END:VEVENT
END:VCALENDAR