BEGIN:VCALENDAR
VERSION:2.0
PRODID:-//hacksw/handcal//NONSGML v1.0//EN
CALSCALE:GREGORIAN
BEGIN:VEVENT
DTEND:20161112T160000Z
UID:69e614d27ad40
DTSTAMP:20260420T115810Z
LOCATION:Pfarrsaal Tscherms
DESCRIPTION:Flyer Preiswatten
URL;VALUE=URI:https://burggrafenamt-online.eu/event/preiswatten-sk-tscherms/
SUMMARY:Preiswatten SK Tscherms
DTSTART:20161112T123000Z
END:VEVENT
END:VCALENDAR