BEGIN:VCALENDAR
VERSION:2.0
PRODID:-//hacksw/handcal//NONSGML v1.0//EN
CALSCALE:GREGORIAN
BEGIN:VEVENT
DTEND:20160117T010000Z
UID:69e635126b6ba
DTSTAMP:20260420T141546Z
LOCATION:Kindergartensaal Burgstall
DESCRIPTION:Die Schützenkompanie Burgstall lädt am 16. Jänner 2016 wieder zum traditionellen Schützenball ein!


URL;VALUE=URI:https://burggrafenamt-online.eu/event/burgstaller-schuetzenball-2016/
SUMMARY:Burgstaller Schützenball 2016
DTSTART:20160116T183000Z
END:VEVENT
END:VCALENDAR