BEGIN:VCALENDAR
VERSION:2.0
PRODID:-//hacksw/handcal//NONSGML v1.0//EN
CALSCALE:GREGORIAN
BEGIN:VEVENT
DTEND:20151114T133000Z
UID:69e5e67054a52
DTSTAMP:20260420T084016Z
LOCATION:Pfarrsaal Tscherms
DESCRIPTION:Wann: Samstag\, 14. November 2015 um 14:30 Uhr

Wo: Pfarrsaal Tscherms

Nenngeld: 20\,00 Euro (inklusive ein Essen)

 

Die Teilnehmer erhalten schöne Sachpreise

 

Anmeldung bei Hptm. Manfred Egger - Mobil: 335 18 72 418

Anschließend gemütliches Beisammensein

Auf Euer kommen freut sich die Schützenkompanie Tscherms

Flyer Preiswatten
URL;VALUE=URI:https://burggrafenamt-online.eu/event/7-preiswatten-der-schuetzenkompanie-tscherms/
SUMMARY:7. Preiswatten der Schützenkompanie Tscherms
DTSTART:20151114T123000Z
END:VEVENT
END:VCALENDAR