BEGIN:VCALENDAR
VERSION:2.0
PRODID:-//hacksw/handcal//NONSGML v1.0//EN
CALSCALE:GREGORIAN
BEGIN:VEVENT
DTEND:20150913T063000Z
UID:69e6002a618f5
DTSTAMP:20260420T103002Z
LOCATION:Waldfestplatz Burgstall
DESCRIPTION:Festprogramm:



Um 7.30 Uhr:
Eintreffen und Aufstellung der Musikkapelle Burgstall\, der Fahnenabordnungen und Schützen beim Kindergarten


Um 8.00 Uhr:
Abmarsch zur Kirche


Um 8.30 Uhr:
Feierlicher Kirchtags-Gottesdienst


Anschließend:
Auftritt der Burgstaller Goaslschnöller am Schloss-hügel

Abmarsch der Musikkapelle sowie Fahnen- und Schützenabordnungen zum Waldfestplatz


Ab 10.00 Uhr:
Beginn des Festbetriebes mit Konzert der  Musikkapelle Burgstall\, anschließend Stimmungsmusik mit dem Trio "TIROLER MUGGER"




Für Speis und Trank ist bestens gesorgt! Es gibt leckere Kirchtagskrapfen\, hausgemachte Kuchen und Kaffee!
Bei Regen findet der Frühschoppen im Kindergartensaal von Burgstall statt. 
Burgstaller Kirchtag 2015
URL;VALUE=URI:https://burggrafenamt-online.eu/event/burgstaller-kirchtag-2/
SUMMARY:Burgstaller Kirchtag
DTSTART:20150913T053000Z
END:VEVENT
END:VCALENDAR