BEGIN:VCALENDAR
VERSION:2.0
PRODID:-//hacksw/handcal//NONSGML v1.0//EN
CALSCALE:GREGORIAN
BEGIN:VEVENT
DTEND:20150530T160000Z
UID:69e3abf17bfbc
DTSTAMP:20260418T160609Z
LOCATION:Waldfestplatz Naturns
DESCRIPTION:Zum Alpenfest mit der Partyband Volxrock lädt die Schützenkompanie Naturns am Samstag 30. Mai ab 17:00 auf dem Waldfestplatz recht herzlich ein\, ab 23 Uhr DJ! Für Speiß und Trank ist bestens gesorgt.

Auf Euer kommen freut sich die Schützenkompanie Naturns.

1119_15_SK_Naturns_Plakat
URL;VALUE=URI:https://burggrafenamt-online.eu/event/alpenfest-der-schuetzenkompanie-naturns/
SUMMARY:Alpenfest der Schützenkompanie Naturns
DTSTART:20150530T150000Z
END:VEVENT
END:VCALENDAR