BEGIN:VCALENDAR
VERSION:2.0
PRODID:-//hacksw/handcal//NONSGML v1.0//EN
CALSCALE:GREGORIAN
BEGIN:VEVENT
DTEND:20150428T213000Z
UID:69e3e0b5c59cd
DTSTAMP:20260418T195117Z
LOCATION:Bürgersaal Thalguterhaus\, Algund
DESCRIPTION:Vortrag mit Univ. Prof. Rolf Steiniger.

Im Bürgersaal Thalguterhaus\, Algund.

&nbsp\;

Der Eintritt frei\, alle Interessierten sing herzlich eingeladen.


URL;VALUE=URI:https://burggrafenamt-online.eu/event/tirol-und-der-erste-weltkrieg/
SUMMARY:Tirol und der erste Weltkrieg
DTSTART:20150428T180000Z
END:VEVENT
END:VCALENDAR