BEGIN:VCALENDAR
VERSION:2.0
PRODID:-//hacksw/handcal//NONSGML v1.0//EN
CALSCALE:GREGORIAN
BEGIN:VEVENT
DTEND:19691231T230000Z
UID:69e5fda28eaf0
DTSTAMP:20260420T101914Z
LOCATION:St. Leonhard in Passeier
DESCRIPTION:
URL;VALUE=URI:https://burggrafenamt-online.eu/event/mjr-georg-klotz-gedenkfeier-3/
SUMMARY:Mjr. Georg Klotz Gedenkfeier
DTSTART:19691231T220000Z
END:VEVENT
END:VCALENDAR