BEGIN:VCALENDAR
VERSION:2.0
PRODID:-//hacksw/handcal//NONSGML v1.0//EN
CALSCALE:GREGORIAN
BEGIN:VEVENT
DTEND:20200911T210000Z
UID:69e5caa087eac
DTSTAMP:20260420T064136Z
LOCATION:Burgstall - Festplatz
DESCRIPTION:Festprogramm:
08:00 Uhr Eintreffen und Aufstellung der Musikkapelle Burgstall der Fahnenabordnungen und Schützen beim Kindergarten
08:30 Uhr Abmarsch zur Pfarrkirche
09:00 Uhr Festgottesdienst in der Pfarrkirche
-&gt\; Im Anschluss Einlage der “Burgstaller Goaßlschnöller”
-&gt\; Abmarsch zum Waldfestplatz begleitet von den Schützenabordnungen und der Musikkapelle Burgstall
11:00 Uhr Beginn des Festbetriebes mit Konzert der Musikkapelle Burgstall und Stimmungsmusik mit dem Duo „Sui Zwoa“
Die Schützenkompanie “Graf Volkmar von Burgstall” freut sich auf Euer Kommen!
(Bei schlechter Witterung wird ein Abholservice eingerichtet)
URL;VALUE=URI:https://burggrafenamt-online.eu/event/burgstaller-kirchtag-5/
SUMMARY:Burgstaller Kirchtag
DTSTART:20200911T060000Z
END:VEVENT
END:VCALENDAR