BEGIN:VCALENDAR
VERSION:2.0
PRODID:-//hacksw/handcal//NONSGML v1.0//EN
CALSCALE:GREGORIAN
BEGIN:VEVENT
DTEND:20160925T210000Z
UID:69e5d27d972fd
DTSTAMP:20260420T071509Z
LOCATION:Lana - Boznerstraße 
DESCRIPTION:3-tägiges Kürbisfest in der Boznerstraße in Lana

Mehr Infos Hier
URL;VALUE=URI:https://burggrafenamt-online.eu/event/kuerbisfest-lana-7/
SUMMARY:Kürbisfest - Lana
DTSTART:20160923T170000Z
END:VEVENT
END:VCALENDAR